BEGIN:VCALENDAR
VERSION:2.0
PRODID:-//Kambja Ignatsi Jaagu kool - ECPv6.15.20//NONSGML v1.0//EN
CALSCALE:GREGORIAN
METHOD:PUBLISH
X-WR-CALNAME:Kambja Ignatsi Jaagu kool
X-ORIGINAL-URL:https://www.kambja.edu.ee
X-WR-CALDESC:Events for Kambja Ignatsi Jaagu kool
REFRESH-INTERVAL;VALUE=DURATION:PT1H
X-Robots-Tag:noindex
X-PUBLISHED-TTL:PT1H
BEGIN:VTIMEZONE
TZID:Europe/Helsinki
BEGIN:DAYLIGHT
TZOFFSETFROM:+0200
TZOFFSETTO:+0300
TZNAME:EEST
DTSTART:20220327T010000
END:DAYLIGHT
BEGIN:STANDARD
TZOFFSETFROM:+0300
TZOFFSETTO:+0200
TZNAME:EET
DTSTART:20221030T010000
END:STANDARD
BEGIN:DAYLIGHT
TZOFFSETFROM:+0200
TZOFFSETTO:+0300
TZNAME:EEST
DTSTART:20230326T010000
END:DAYLIGHT
BEGIN:STANDARD
TZOFFSETFROM:+0300
TZOFFSETTO:+0200
TZNAME:EET
DTSTART:20231029T010000
END:STANDARD
BEGIN:DAYLIGHT
TZOFFSETFROM:+0200
TZOFFSETTO:+0300
TZNAME:EEST
DTSTART:20240331T010000
END:DAYLIGHT
BEGIN:STANDARD
TZOFFSETFROM:+0300
TZOFFSETTO:+0200
TZNAME:EET
DTSTART:20241027T010000
END:STANDARD
END:VTIMEZONE
BEGIN:VEVENT
DTSTART;TZID=Europe/Helsinki:20231109T100000
DTEND;TZID=Europe/Helsinki:20231109T150000
DTSTAMP:20260421T000050
CREATED:20231006T101011Z
LAST-MODIFIED:20231006T101011Z
UID:6195-1699524000-1699542000@www.kambja.edu.ee
SUMMARY:„Hakkame santima!“ (pärimusrühm Tähelinnud)
DESCRIPTION:HAKKAME SANTIMA \n \n 
URL:https://www.kambja.edu.ee/sundmus/hakkame-santima-parimusruhm-tahelinnud/
CATEGORIES:Huvitegevus
END:VEVENT
END:VCALENDAR