BEGIN:VCALENDAR
VERSION:2.0
PRODID:-//Kambja Ignatsi Jaagu kool - ECPv6.15.20//NONSGML v1.0//EN
CALSCALE:GREGORIAN
METHOD:PUBLISH
X-WR-CALNAME:Kambja Ignatsi Jaagu kool
X-ORIGINAL-URL:https://www.kambja.edu.ee
X-WR-CALDESC:Events for Kambja Ignatsi Jaagu kool
REFRESH-INTERVAL;VALUE=DURATION:PT1H
X-Robots-Tag:noindex
X-PUBLISHED-TTL:PT1H
BEGIN:VTIMEZONE
TZID:Europe/Helsinki
BEGIN:DAYLIGHT
TZOFFSETFROM:+0200
TZOFFSETTO:+0300
TZNAME:EEST
DTSTART:20240331T010000
END:DAYLIGHT
BEGIN:STANDARD
TZOFFSETFROM:+0300
TZOFFSETTO:+0200
TZNAME:EET
DTSTART:20241027T010000
END:STANDARD
BEGIN:DAYLIGHT
TZOFFSETFROM:+0200
TZOFFSETTO:+0300
TZNAME:EEST
DTSTART:20250330T010000
END:DAYLIGHT
BEGIN:STANDARD
TZOFFSETFROM:+0300
TZOFFSETTO:+0200
TZNAME:EET
DTSTART:20251026T010000
END:STANDARD
BEGIN:DAYLIGHT
TZOFFSETFROM:+0200
TZOFFSETTO:+0300
TZNAME:EEST
DTSTART:20260329T010000
END:DAYLIGHT
BEGIN:STANDARD
TZOFFSETFROM:+0300
TZOFFSETTO:+0200
TZNAME:EET
DTSTART:20261025T010000
END:STANDARD
BEGIN:DAYLIGHT
TZOFFSETFROM:+0200
TZOFFSETTO:+0300
TZNAME:EEST
DTSTART:20270328T010000
END:DAYLIGHT
BEGIN:STANDARD
TZOFFSETFROM:+0300
TZOFFSETTO:+0200
TZNAME:EET
DTSTART:20271031T010000
END:STANDARD
END:VTIMEZONE
BEGIN:VTIMEZONE
TZID:Europe/Tallinn
BEGIN:DAYLIGHT
TZOFFSETFROM:+0200
TZOFFSETTO:+0300
TZNAME:EEST
DTSTART:20250330T010000
END:DAYLIGHT
BEGIN:STANDARD
TZOFFSETFROM:+0300
TZOFFSETTO:+0200
TZNAME:EET
DTSTART:20251026T010000
END:STANDARD
BEGIN:DAYLIGHT
TZOFFSETFROM:+0200
TZOFFSETTO:+0300
TZNAME:EEST
DTSTART:20260329T010000
END:DAYLIGHT
BEGIN:STANDARD
TZOFFSETFROM:+0300
TZOFFSETTO:+0200
TZNAME:EET
DTSTART:20261025T010000
END:STANDARD
BEGIN:DAYLIGHT
TZOFFSETFROM:+0200
TZOFFSETTO:+0300
TZNAME:EEST
DTSTART:20270328T010000
END:DAYLIGHT
BEGIN:STANDARD
TZOFFSETFROM:+0300
TZOFFSETTO:+0200
TZNAME:EET
DTSTART:20271031T010000
END:STANDARD
END:VTIMEZONE
BEGIN:VEVENT
DTSTART;TZID=Europe/Helsinki:20250327T081500
DTEND;TZID=Europe/Helsinki:20250327T150000
DTSTAMP:20260420T203229
CREATED:20250205T092356Z
LAST-MODIFIED:20250205T092356Z
UID:6784-1743063300-1743087600@www.kambja.edu.ee
SUMMARY:Lastekoori üldlaulupeo II eelproov ja etteleulmine
DESCRIPTION:Vanemuise kontserdimajas
URL:https://www.kambja.edu.ee/sundmus/lastekoori-uldlaulupeo-ii-eelproov-ja-etteleulmine/
CATEGORIES:Huvitegevus
END:VEVENT
BEGIN:VEVENT
DTSTART;TZID=Europe/Helsinki:20250328T081500
DTEND;TZID=Europe/Helsinki:20250328T150000
DTSTAMP:20260420T203229
CREATED:20250205T092456Z
LAST-MODIFIED:20250205T092456Z
UID:6786-1743149700-1743174000@www.kambja.edu.ee
SUMMARY:Näiteringid Tabiveres teatrifestivalil
DESCRIPTION:
URL:https://www.kambja.edu.ee/sundmus/naiteringid-tabiveres-teatrifestivalil/
CATEGORIES:Huvitegevus
END:VEVENT
BEGIN:VEVENT
DTSTART;TZID=Europe/Helsinki:20250410T081500
DTEND;TZID=Europe/Helsinki:20250410T140000
DTSTAMP:20260420T203229
CREATED:20250404T075702Z
LAST-MODIFIED:20250404T075702Z
UID:6848-1744272900-1744293600@www.kambja.edu.ee
SUMMARY:Üldlaulupeo 2025 „Iseoma“ mudilaskoori eelproov ja ettelaulmine - kogu koor
DESCRIPTION:https://kambja.ope.ee/suhtlus/p/20802254
URL:https://www.kambja.edu.ee/sundmus/uldlaulupeo-2025-iseoma-mudilaskoori-eelproov-ja-ettelaulmine-kogu-koor/
CATEGORIES:Huvitegevus
END:VEVENT
BEGIN:VEVENT
DTSTART;VALUE=DATE:20250425
DTEND;VALUE=DATE:20250427
DTSTAMP:20260420T203229
CREATED:20250404T080014Z
LAST-MODIFIED:20250404T080014Z
UID:6852-1745539200-1745711999@www.kambja.edu.ee
SUMMARY:1.-5. kl näitering vabariiklikul teatrifestivalil Tallinnas
DESCRIPTION:
URL:https://www.kambja.edu.ee/sundmus/1-5-kl-naitering-vabariiklikul-teatrifestivalil-tallinnas/
CATEGORIES:Huvitegevus
END:VEVENT
BEGIN:VEVENT
DTSTART;VALUE=DATE:20250520
DTEND;VALUE=DATE:20250521
DTSTAMP:20260420T203229
CREATED:20250516T104421Z
LAST-MODIFIED:20250516T104421Z
UID:6964-1747699200-1747785599@www.kambja.edu.ee
SUMMARY:Spordipäev
DESCRIPTION:
URL:https://www.kambja.edu.ee/sundmus/spordipaev-052025/
CATEGORIES:Huvitegevus,Õppetöö
END:VEVENT
BEGIN:VEVENT
DTSTART;VALUE=DATE:20250603
DTEND;VALUE=DATE:20250604
DTSTAMP:20260420T203229
CREATED:20250606T092733Z
LAST-MODIFIED:20250606T092733Z
UID:6981-1748908800-1748995199@www.kambja.edu.ee
SUMMARY:VII kooliolümpiamängud
DESCRIPTION:– – – – – – – – – – – 1
URL:https://www.kambja.edu.ee/sundmus/vii-kooliolumpiamangud/
CATEGORIES:Huvitegevus,Õppetöö
END:VEVENT
BEGIN:VEVENT
DTSTART;VALUE=DATE:20250912
DTEND;VALUE=DATE:20250913
DTSTAMP:20260420T203229
CREATED:20250912T115508Z
LAST-MODIFIED:20250912T115536Z
UID:7065-1757635200-1757721599@www.kambja.edu.ee
SUMMARY:Poistekoor õppepäeval Ülenurmes
DESCRIPTION:Kambja Kooriakadeemia: Poistekooride kontsert
URL:https://www.kambja.edu.ee/sundmus/poistekoor-oppepaeval-ulenurmes/
CATEGORIES:Huvitegevus
END:VEVENT
BEGIN:VEVENT
DTSTART;TZID=Europe/Helsinki:20251002T090000
DTEND;TZID=Europe/Helsinki:20251002T120000
DTSTAMP:20260420T203229
CREATED:20250929T151718Z
LAST-MODIFIED:20250929T151718Z
UID:7146-1759395600-1759406400@www.kambja.edu.ee
SUMMARY:Krossijooks
DESCRIPTION:
URL:https://www.kambja.edu.ee/sundmus/krossijooks-4/
CATEGORIES:Huvitegevus
END:VEVENT
BEGIN:VEVENT
DTSTART;TZID=Europe/Helsinki:20251017T143000
DTEND;TZID=Europe/Helsinki:20251017T193000
DTSTAMP:20260420T203229
CREATED:20251002T144558Z
LAST-MODIFIED:20251002T144558Z
UID:7175-1760711400-1760729400@www.kambja.edu.ee
SUMMARY:Pärimusrühma Tähelinnud õhtulaager
DESCRIPTION:
URL:https://www.kambja.edu.ee/sundmus/parimusruhma-tahelinnud-ohtulaager-4/
CATEGORIES:Huvitegevus
END:VEVENT
BEGIN:VEVENT
DTSTART;TZID=Europe/Helsinki:20251114T143000
DTEND;TZID=Europe/Helsinki:20251114T193000
DTSTAMP:20260420T203229
CREATED:20251104T081524Z
LAST-MODIFIED:20251104T081524Z
UID:7251-1763130600-1763148600@www.kambja.edu.ee
SUMMARY:Pärimusrühma Tähelinnud õhtulaager
DESCRIPTION:
URL:https://www.kambja.edu.ee/sundmus/parimusruhma-tahelinnud-ohtulaager-5/
CATEGORIES:Huvitegevus
END:VEVENT
BEGIN:VEVENT
DTSTART;VALUE=DATE:20251119
DTEND;VALUE=DATE:20251120
DTSTAMP:20260420T203229
CREATED:20251113T094556Z
LAST-MODIFIED:20251113T094756Z
UID:7320-1763510400-1763596799@www.kambja.edu.ee
SUMMARY:JJ-Streeti tutvustavad tunnid spordihoones
DESCRIPTION:kolmapäev\, 19. november kell 10.30–13.10 \n10.30–11.154. ja 6. klass (koolimajas algab/jätkub ainetund kell 11.25) \n11.25–12.107.–8. klass (lahkuvad ainetunnist kell 11.15\, tagasi tulles lähevad sööma ja seejärel jätkuvad ainetunnid) \n12.25–13.103.\, 5. ja 5.a klass (lahkuvad ainetunnist kell 12.15; 3. klassil on pärast seda tunnid läbi\, 5. klassi tüdrukud ja 5.a klass lähevad koolimajja ainetundi)
URL:https://www.kambja.edu.ee/sundmus/jj-streeti-tutvustavad-tunnid-spordihoones/
CATEGORIES:Huvitegevus
END:VEVENT
BEGIN:VEVENT
DTSTART;TZID=Europe/Helsinki:20251121T123500
DTEND;TZID=Europe/Helsinki:20251121T141500
DTSTAMP:20260420T203229
CREATED:20251104T081641Z
LAST-MODIFIED:20251104T081641Z
UID:7253-1763728500-1763734500@www.kambja.edu.ee
SUMMARY:Pärimusrühma Tähelinnud peaproov
DESCRIPTION:Trallami peaproov
URL:https://www.kambja.edu.ee/sundmus/parimusruhma-tahelinnud-peaproov/
CATEGORIES:Huvitegevus
END:VEVENT
BEGIN:VEVENT
DTSTART;TZID=Europe/Helsinki:20251122T130000
DTEND;TZID=Europe/Helsinki:20251122T130000
DTSTAMP:20260420T203229
CREATED:20251104T081844Z
LAST-MODIFIED:20251104T081844Z
UID:7255-1763816400-1763816400@www.kambja.edu.ee
SUMMARY:Rahvusvahelise pärimuspeo „Baltica“ eelpidu – Tartumaa trallam
DESCRIPTION:Tartumaa trallami sügispidu
URL:https://www.kambja.edu.ee/sundmus/rahvusvahelise-parimuspeo-baltica-eelpidu-tartumaa-trallam/
CATEGORIES:Huvitegevus
END:VEVENT
BEGIN:VEVENT
DTSTART;TZID=Europe/Helsinki:20251215T094500
DTEND;TZID=Europe/Helsinki:20251215T104500
DTSTAMP:20260420T203229
CREATED:20251124T085733Z
LAST-MODIFIED:20251124T085850Z
UID:7360-1765791900-1765795500@www.kambja.edu.ee
SUMMARY:Jõululaat-kohvik
DESCRIPTION:Jõululaat-kohvik
URL:https://www.kambja.edu.ee/sundmus/joululaat-kohvik/
LOCATION:Aula
CATEGORIES:Huvitegevus
END:VEVENT
BEGIN:VEVENT
DTSTART;TZID=Europe/Helsinki:20260128T144500
DTEND;TZID=Europe/Helsinki:20260128T193000
DTSTAMP:20260420T203229
CREATED:20251205T101942Z
LAST-MODIFIED:20251205T102455Z
UID:7416-1769611500-1769628600@www.kambja.edu.ee
SUMMARY:Pärimusrühma Tähelinnud tegevusõhtu
DESCRIPTION:Uhtil
URL:https://www.kambja.edu.ee/sundmus/parimusruhma-tahelinnud-tegevusohtu/
LOCATION:Reola kultuurimaja
CATEGORIES:Huvitegevus
END:VEVENT
BEGIN:VEVENT
DTSTART;VALUE=DATE:20260318
DTEND;VALUE=DATE:20260328
DTSTAMP:20260420T203229
CREATED:20260320T111824Z
LAST-MODIFIED:20260320T111824Z
UID:7619-1773792000-1774655999@www.kambja.edu.ee
SUMMARY:Jahitrofeede näitus. Rasmus Põder
DESCRIPTION:
URL:https://www.kambja.edu.ee/sundmus/jahitrofeede-naitus-rasmus-poder/
CATEGORIES:Huvitegevus
END:VEVENT
BEGIN:VEVENT
DTSTART;TZID=Europe/Tallinn:20260430T104000
DTEND;TZID=Europe/Tallinn:20260430T110000
DTSTAMP:20260420T203229
CREATED:20260417T084749Z
LAST-MODIFIED:20260417T085002Z
UID:7705-1777545600-1777546800@www.kambja.edu.ee
SUMMARY:Näiteringi etendus „Kardemoni linna rahvas ja röövlid“
DESCRIPTION:3.-5. kl näiteringi etendus kooli- ja lasteaiaperele. \n 
URL:https://www.kambja.edu.ee/sundmus/naiteringi-etendus-kardemoni-linna-rahvas-ja-roovlid/
LOCATION:Aula
CATEGORIES:Huvitegevus
END:VEVENT
END:VCALENDAR